BEGIN:VCALENDAR
VERSION:2.0
PRODID:icalendar-ruby
CALSCALE:GREGORIAN
METHOD:PUBLISH
BEGIN:VEVENT
DTSTAMP:20260423T193906Z
UID:26-1078263@darbycreeknaz.org
DTSTART:20260917T230000Z
DTEND:20260918T000000Z
CLASS:PUBLIC
CREATED:20260423T141111
DESCRIPTION:Join us on Thursday nights for a mid-week Bible study. This sma
 ll group meets on zoom. \nThe purpose of this group is to dive deeper in 
 to God's Word - seeking to better understand it and discover ways to apply
  it to our lives! It is led by one of our retired pastors and it a great p
 lace to grow in your knowledge and understanding of Christ and God's Word.
 \n \n*If you are interested in joining this group\, please email admin@da
 rbycreeknaz.org for the zoom link
LAST-MODIFIED:20260423T141111
LOCATION:
SUMMARY:Bible Study on Zoom
URL;VALUE=URI:https://www.darbycreeknaz.org/events/bible-study-on-zoom/2026
 -09-17
ATTACH;FILENAME=FkJ1n.jpg;FMTTYPE=image/jpeg:https://dq5pwpg1q8ru0.cloudfro
 nt.net/2024/09/26/20/03/43/aa2598aa-24c2-47a6-82e6-1010bcc3dffa/FkJ1n.jpg
END:VEVENT
END:VCALENDAR
