BEGIN:VCALENDAR
VERSION:2.0
PRODID:icalendar-ruby
CALSCALE:GREGORIAN
METHOD:PUBLISH
BEGIN:VEVENT
DTSTAMP:20260422T113355Z
UID:5-1068994@darbycreeknaz.org
DTSTART:20260719T143000Z
DTEND:20260719T153000Z
CLASS:PUBLIC
CREATED:20260421T211453
DESCRIPTION:Sunday Worship
LAST-MODIFIED:20260421T211453
LOCATION:
SUMMARY:Sunday Worship
URL;VALUE=URI:https://www.darbycreeknaz.org/events/sunday-worship/2026-07-1
 9
END:VEVENT
END:VCALENDAR
