BEGIN:VCALENDAR
VERSION:2.0
PRODID:icalendar-ruby
CALSCALE:GREGORIAN
METHOD:PUBLISH
BEGIN:VEVENT
DTSTAMP:20260424T095451Z
UID:5-1080612@darbycreeknaz.org
DTSTART:20260802T143000Z
DTEND:20260802T153000Z
CLASS:PUBLIC
CREATED:20260423T225412
DESCRIPTION:Sunday Worship
LAST-MODIFIED:20260423T225412
LOCATION:
SUMMARY:Sunday Worship
URL;VALUE=URI:https://www.darbycreeknaz.org/events/sunday-worship/2026-08-0
 2
END:VEVENT
END:VCALENDAR
