BEGIN:VCALENDAR
VERSION:2.0
PRODID:icalendar-ruby
CALSCALE:GREGORIAN
METHOD:PUBLISH
BEGIN:VEVENT
DTSTAMP:20260424T141946Z
UID:5-1081585@darbycreeknaz.org
DTSTART:20260823T143000Z
DTEND:20260823T153000Z
CLASS:PUBLIC
CREATED:20260424T082224
DESCRIPTION:Sunday Worship
LAST-MODIFIED:20260424T082224
LOCATION:
SUMMARY:Sunday Worship
URL;VALUE=URI:https://www.darbycreeknaz.org/events/sunday-worship/2026-08-2
 3
END:VEVENT
END:VCALENDAR
