BEGIN:VCALENDAR
VERSION:2.0
PRODID:icalendar-ruby
CALSCALE:GREGORIAN
METHOD:PUBLISH
BEGIN:VEVENT
DTSTAMP:20260424T170631Z
UID:5-1082557@darbycreeknaz.org
DTSTART:20260906T143000Z
DTEND:20260906T153000Z
CLASS:PUBLIC
CREATED:20260424T111513
DESCRIPTION:Sunday Worship
LAST-MODIFIED:20260424T111513
LOCATION:
SUMMARY:Sunday Worship
URL;VALUE=URI:https://www.darbycreeknaz.org/events/sunday-worship/2026-09-0
 6
END:VEVENT
END:VCALENDAR
