BEGIN:VCALENDAR
VERSION:2.0
PRODID:icalendar-ruby
CALSCALE:GREGORIAN
METHOD:PUBLISH
BEGIN:VEVENT
DTSTAMP:20260425T040432Z
UID:5-1086444@darbycreeknaz.org
DTSTART:20261025T143000Z
DTEND:20261025T153000Z
CLASS:PUBLIC
CREATED:20260424T222626
DESCRIPTION:Sunday Worship
LAST-MODIFIED:20260424T222626
LOCATION:
SUMMARY:Sunday Worship
URL;VALUE=URI:https://www.darbycreeknaz.org/events/sunday-worship/2026-10-2
 5
END:VEVENT
END:VCALENDAR
