BEGIN:VCALENDAR
VERSION:2.0
PRODID:icalendar-ruby
CALSCALE:GREGORIAN
METHOD:PUBLISH
BEGIN:VEVENT
DTSTAMP:20260423T190759Z
UID:15-1078156@darbycreeknaz.org
DTSTART:20261014T223000Z
DTEND:20261015T000000Z
CLASS:PUBLIC
CREATED:20260423T141110
DESCRIPTION:The Wednesday night Prayer and Bible Study Group realize that p
 rayer is the most important tool we have as Christians.  We pray for all 
 the needs of people in our community\, our friends\, neighbors\, families\
 , and people we may not know personally.  Currently we are studying the G
 ospel of Matthew and are in Chapter 8.  We do this with questions and dis
 cussions on each verse. Our goal is for each person to learn something new
  or different to develop a closer relationship with Jesus. 
LAST-MODIFIED:20260423T141110
LOCATION:
SUMMARY:Weekly Prayer Gathering
URL;VALUE=URI:https://www.darbycreeknaz.org/events/weekly-prayer-gathering/
 2026-10-14
ATTACH;FILENAME=download-%283%29.jpg;FMTTYPE=image/jpeg:https://dq5pwpg1q8r
 u0.cloudfront.net/2024/09/12/17/16/00/8dfb2c3e-4e09-47af-9ca1-ed7f82a6d3e4
 /download-%25283%2529.jpg
END:VEVENT
END:VCALENDAR
