BEGIN:VCALENDAR
VERSION:2.0
PRODID:icalendar-ruby
CALSCALE:GREGORIAN
METHOD:PUBLISH
BEGIN:VEVENT
DTSTAMP:20260423T062823Z
UID:12-1075021@darbycreeknaz.org
DTSTART:20260929T140000Z
DTEND:20260929T153000Z
CLASS:PUBLIC
CREATED:20260422T225206
DESCRIPTION:On Tuesdays\, our ladies gather for a time of prayer! This grou
 p faithfully prays each week for each other\, the needs of the church\, th
 e world\, and everything in between.\nIf you are a woman who is looking to
  deepen your own prayer life\, this is a great place to start!
LAST-MODIFIED:20260422T225206
LOCATION:
SUMMARY:Women's Prayer Group
URL;VALUE=URI:https://www.darbycreeknaz.org/events/womens-prayer-group/2026
 -09-29
ATTACH;FILENAME=OIP-%283%29.jpg;FMTTYPE=image/jpeg:https://dq5pwpg1q8ru0.cl
 oudfront.net/2024/09/12/17/01/04/02de91bf-ee9c-42d3-b851-f1fed8706c39/OIP-
 %25283%2529.jpg
END:VEVENT
END:VCALENDAR
